BEGIN:VCALENDAR
VERSION:2.0
PRODID:-//MucDigital - ECPv4.8.2//NONSGML v1.0//EN
CALSCALE:GREGORIAN
METHOD:PUBLISH
X-WR-CALNAME:MucDigital
X-ORIGINAL-URL:https://mucdigital.de
X-WR-CALDESC:Veranstaltungen im MucDigital
BEGIN:VEVENT
DTSTART;TZID=Europe/Berlin:20190522T140000
DTEND;TZID=Europe/Berlin:20190522T180000
DTSTAMP:20260423T235315
CREATED:20190423T073312Z
LAST-MODIFIED:20190527T162247Z
UID:2482-1558533600-1558548000@mucdigital.de
SUMMARY:Digital Dialog Opener
DESCRIPTION:Starte den Digital Dialog mit spannenden Sessions aus der Digital- und Kreativwirtschaft Münchens. Von Instagram über Podcast bis hin zur DSGVO – im Digital Dialog Opener erhalten Sie geballtes Know-how von Expert*innen. \nDoch damit nicht genug. Bleiben Sie nach den Sessions einfach da und erleben Sie die Verleihung der Isarnetz Blog Awards. Im Anschluss geht es mit dem Abendprogramm Internet RESET? weiter. Die Teilnahme am Sessionprogramm Digital Dialog Opener ist kostenlos\, ebenso wie die Teilnahme an der Verleihung des Isarnetz Blog Awards. \n14 – 14.45 Uhr\nSession A: Gardening für Instagram – Wie lasse ich meinen Account wachsen und gedeihen. Basics und die besten Strategien für ein nachhaltiges Wachstum\, Do’s & Dont’s für private wie Business-Accounts\, Austausch & Learnings – Kerstin Kitzmann (Social Media Expertin\, webgrrl)\, Mandy Ahlendorf (PRFrau\, webgrrl)\nSession B: Die Geheimnisse erfolgreicher Blogs – MUCBOOK \n15 – 15.45 Uhr\nSession A: GIF-Animationen (bitte Laptop mit Photoshop mitbringen) – André Eckert (micropol.de)\nSession B: Wie die Zeit vergeht – ein Jahr DSGVO – Tobias Günther\, g3s Rechtsanwälte\, Christian Schmoll\, g3s Rechtsanwälte. Die Anwälte geben konkrete Handlungsempfehlungen zur Umsetzung der DSGVO im Unternehmen. Sie sprechen u.a. über Dokumentationspflichten\, Onlinemarketing\, die Nutzung von Fotos und das Risiko von Abmahnungen. \n16 – 16.45 Uhr\nSession A: Podcast Workshop – Torsten Frenzel (egovernment-podcast.com)\nSession B: Moderation und Entwicklung von Teams in komplexen Organisationsstrukturen\n(Agile und Projektteams neben Linienstrukturen) – Sonja Bauer (SOVIS GmbH) \n17 – 17.45 Uhr\nSession A: Musikmachen mit digitalen mobilen Geräten – Roy Perez (drumnote productions ::)\nSession B: Wie ich einen rechtsradikalen YoutTube-Kanal highjackte – Achim Waseem Seger\, Poet bei i\,Slam\, MC bei DSDNG sowie DJ\, Aktivist \n  \nDetails zu den Sessions auf www.mucdigital.de oder in unserer App: https://lineupr.com/mucdigital/eventwoche \n  \nTickets \n  \n  \n  \n
URL:https://mucdigital.de/event/digital-dialog-opener/
LOCATION:FOM Hochschule München\, Arnulfstraße 30\, München\, 80335
CATEGORIES:Digitale Kreativität, Kultur & Design,Digitale Wirtschaft & Unternehmertum
ORGANIZER;CN="Isarnetzwerk%20e.V.":MAILTO:info@isarnetz.de
END:VEVENT
END:VCALENDAR