BEGIN:VCALENDAR
VERSION:2.0
PRODID:-//MucDigital - ECPv4.8.2//NONSGML v1.0//EN
CALSCALE:GREGORIAN
METHOD:PUBLISH
X-WR-CALNAME:MucDigital
X-ORIGINAL-URL:https://mucdigital.de
X-WR-CALDESC:Veranstaltungen im MucDigital
BEGIN:VEVENT
DTSTART;TZID=Europe/Berlin:20190523T183000
DTEND;TZID=Europe/Berlin:20190523T200000
DTSTAMP:20260421T022838
CREATED:20190328T145022Z
LAST-MODIFIED:20190527T162012Z
UID:2124-1558636200-1558641600@mucdigital.de
SUMMARY:Der User ist ein Mensch: zeitgemäße & nachhaltige Suchmaschinenoptimierung
DESCRIPTION:Für Rankings in den Top 10 sind positive Nutzersignale unverzichtbar. Workshop über die wichtigsten Rankingfaktoren für eine nachhaltige Online-Strategie. \nDie Qualitätsrichtlinien sowie technische Updates im Algorithmus von Google gehen immer wieder darauf zurück: Die Bedürfnisse des Users im Medium Online. Neben gängigen On- und Offpage-Faktoren wollen wir in diesem Workshop darauf eingehen\, wie du das beste Nutzererlebnis schaffst – und deine Rankings nachhaltig nach oben bringst. \nDurch die Ausrichtung der SEO-Strategie auf den User konnten wir zuletzt für einen Kunden 50% mehr Wachstum erzielen. Wir legen anhand einer Case Study offen\, wie wir solche Zahlen erreichen. \n  \nAnmeldung an: mail@satzgestalt.com \n
URL:https://mucdigital.de/event/der-user-ist-ein-mensch-zeitgemaesse-nachhaltige-suchmaschinenoptimierung/
LOCATION:c/o Impact Hub München\, Gotzinger Str. 8\, München\, 81371
CATEGORIES:Digitale Bildung,Digitale Medien
END:VEVENT
END:VCALENDAR