BEGIN:VCALENDAR
VERSION:2.0
PRODID:-//MucDigital - ECPv4.8.2//NONSGML v1.0//EN
CALSCALE:GREGORIAN
METHOD:PUBLISH
X-WR-CALNAME:MucDigital
X-ORIGINAL-URL:https://mucdigital.de
X-WR-CALDESC:Veranstaltungen im MucDigital
BEGIN:VEVENT
DTSTART;TZID=Europe/Berlin:20190516T173000
DTEND;TZID=Europe/Berlin:20190516T213000
DTSTAMP:20260420T135349
CREATED:20190401T215144Z
LAST-MODIFIED:20190527T162612Z
UID:2150-1558027800-1558042200@mucdigital.de
SUMMARY:After Work XChange - Artifical Creativity: Künstliche Intelligenz und Kreativität
DESCRIPTION:Künstliche Intelligenz und Kreativität – wie geht das zusammen? Im Rahmen unseres Austauschformats „After Work XChange“ bei uns im Plan.Net Innovation Studio in München wollen wir die Rolle von KI im Kontext von kreativen Prozessen beleuchten. Unter dem Titel Artificial Creativity diskutieren wir die Frage\, ob und wie Mensch und Maschine schon heute – und in Zukunft – ein produktives Miteinander im Zuge von Gestaltungsprozessen finden. Ganz gleich\, ob KI als Muse\, Werkzeug\, Assistent\, Schöpfer oder Wächter agiert. Freuen Sie sich mit uns auf Experten-Einschätzungen und spannende Referenten\, die ihre Erfahrungen und Meinungen mit uns teilen. \n  \nAnmeldung per Mail an: innovationstudio@planâ&#128;&#147;net.com \n
URL:https://mucdigital.de/event/after-work-xchange/
LOCATION:Plan.Net Gruppe / Haus der Kommunikation GmbH & Co. KG\, Brienner Straße 45 a-d\, 80333 München\, München\, 80333\, DE
CATEGORIES:Digitale Innovation & Technologie,Digitale Kreativität, Kultur & Design
END:VEVENT
END:VCALENDAR